BEGIN:VCALENDAR
VERSION:2.0
PRODID:-//Cascade Camera Club - ECPv6.15.20//NONSGML v1.0//EN
CALSCALE:GREGORIAN
METHOD:PUBLISH
X-WR-CALNAME:Cascade Camera Club
X-ORIGINAL-URL:https://cascadecameraclub.com
X-WR-CALDESC:Events for Cascade Camera Club
REFRESH-INTERVAL;VALUE=DURATION:PT1H
X-Robots-Tag:noindex
X-PUBLISHED-TTL:PT1H
BEGIN:VTIMEZONE
TZID:America/Los_Angeles
BEGIN:DAYLIGHT
TZOFFSETFROM:-0800
TZOFFSETTO:-0700
TZNAME:PDT
DTSTART:20190310T100000
END:DAYLIGHT
BEGIN:STANDARD
TZOFFSETFROM:-0700
TZOFFSETTO:-0800
TZNAME:PST
DTSTART:20191103T090000
END:STANDARD
BEGIN:DAYLIGHT
TZOFFSETFROM:-0800
TZOFFSETTO:-0700
TZNAME:PDT
DTSTART:20200308T100000
END:DAYLIGHT
BEGIN:STANDARD
TZOFFSETFROM:-0700
TZOFFSETTO:-0800
TZNAME:PST
DTSTART:20201101T090000
END:STANDARD
BEGIN:DAYLIGHT
TZOFFSETFROM:-0800
TZOFFSETTO:-0700
TZNAME:PDT
DTSTART:20210314T100000
END:DAYLIGHT
BEGIN:STANDARD
TZOFFSETFROM:-0700
TZOFFSETTO:-0800
TZNAME:PST
DTSTART:20211107T090000
END:STANDARD
END:VTIMEZONE
BEGIN:VEVENT
DTSTART;TZID=America/Los_Angeles:20201019T190000
DTEND;TZID=America/Los_Angeles:20201019T210000
DTSTAMP:20260424T001734
CREATED:20201010T164058Z
LAST-MODIFIED:20201018T163535Z
UID:15412-1603134000-1603141200@cascadecameraclub.com
SUMMARY:Zoom Oct. 19th Program Night Features Steve Peters - Astrophotography
DESCRIPTION:For the October program I will discuss astrophotography that can be done primarily with  a camera and tripod. I plan to touch on nightscape planning and composition\, focusing\, technical considerations for shooting in the dark\, and maybe a bit about post-processing. My goal is to provide enough how-to instruction and perhaps inspiration to get a few folks to go out and try some night sky photography themselves. Hope to see everyone on Zoom. \nI’m a photography hobbyist concentrating on landscape\, seascape\, and nightscape photography in my limited spare time after work\, family\, life\, etc.  I am a product manager for Orion Telescopes & Binoculars\, a California-based company where I have worked since 1995 (now remotely). \nI picked up “terrestrial” photography in earnest in 2014 after attending a one-day workshop on seascape photography in Santa Cruz\, CA. But I have been doing deep-space astrophotography – using telescopes as the lens – since the late 1990s. I do it for enjoyment as well as for work; my astrophotos are used in Orion’s direct-to-consumer catalog\, websites\, advertising\, and products. \nIn recent years my personal “astrophotography” pursuits have been focused more on what I can capture with a DSLR or mirrorless camera and standard photographic lenses on a tripod; namely\, wide-field “nightscape” scenes often featuring the Milky Way set against interesting foreground elements. I also enjoy shooting the Moon\, the planets\, comets\, the occasional solar eclipse\, and star trails.
URL:https://cascadecameraclub.com/event/zoom-oct-19th-program-night-features-steve-peters-astrophotography/
LOCATION:OR
END:VEVENT
END:VCALENDAR